BEGIN:VCALENDAR
VERSION:2.0
PRODID:-//Tukios.com/
BEGIN:VEVENT
UID:c00939b5-4824-4ab0-bc84-0b5d32f5d5b7@www.vanarsdalefs.com
DTSTAMP:20260419T214804Z
DTSTART:20260426T190000Z
DTEND:20260426T200000Z
SUMMARY:Memorial Service
DESCRIPTION:
URL:https://www.vanarsdalefs.com/obituaries/robert-gilmore
LOCATION:New Strawn Community Christian Church 110 N. 5th st.  New Strawn 
	KS 66839
GEO:38.2603725;-95.7456711
END:VEVENT
END:VCALENDAR