BEGIN:VCALENDAR
VERSION:2.0
PRODID:-//Tukios.com/
BEGIN:VEVENT
UID:fb172ecb-de27-485d-8b94-ae2fdbf8e2e7@www.vanarsdalefs.com
DTSTAMP:20260422T230450Z
DTSTART:20260424T200000Z
DTEND:20260424T210000Z
SUMMARY:Memorial Service
DESCRIPTION:
URL:https://www.vanarsdalefs.com/obituaries/keith-jenkins
LOCATION:Life Church 1801 Graphic Arts Rd  Emporia KS 66801
GEO:38.4206088;-96.2266445
END:VEVENT
END:VCALENDAR